BEGIN:VCALENDAR
VERSION:2.0
PRODID:-//eventon.com NONSGML v1.0//EN
CALSCALE:GREGORIAN
METHOD:PUBLISH
BEGIN:VEVENT
UID:69e8f948759b6
DTSTAMP:20260422T163728Z
DTSTART:20230513T140000Z
DTEND:20230513T180000Z
LOCATION:
SUMMARY:Eagle Ranch Yard Sale
DESCRIPTION:Join your neighbors and take part in the  Eagle Ranch Associat
 ion Community Yard Sale. Registration is required to be included in Newspap
 er advertising and to include your yard sale on our map. https://www.eagler
 anchhoa.net/event-details-registration/eagle-ranch-community-yard-sale\nhtt
 ps://eagleoutside.com/events/eagle-ranch-yard-sale/
URL:https://eagleoutside.com/events/eagle-ranch-yard-sale/
END:VEVENT
END:VCALENDAR